BEGIN:VCALENDAR
VERSION:2.0
PRODID:-//Richland Carrousel Park - ECPv6.10.1.1//NONSGML v1.0//EN
CALSCALE:GREGORIAN
METHOD:PUBLISH
X-WR-CALNAME:Richland Carrousel Park
X-ORIGINAL-URL:https://richlandcarrousel.com
X-WR-CALDESC:Events for Richland Carrousel Park
REFRESH-INTERVAL;VALUE=DURATION:PT1H
X-Robots-Tag:noindex
X-PUBLISHED-TTL:PT1H
BEGIN:VTIMEZONE
TZID:America/New_York
BEGIN:DAYLIGHT
TZOFFSETFROM:-0500
TZOFFSETTO:-0400
TZNAME:EDT
DTSTART:20200308T070000
END:DAYLIGHT
BEGIN:STANDARD
TZOFFSETFROM:-0400
TZOFFSETTO:-0500
TZNAME:EST
DTSTART:20201101T060000
END:STANDARD
END:VTIMEZONE
BEGIN:VEVENT
DTSTART;TZID=America/New_York:20201002T160000
DTEND;TZID=America/New_York:20201002T200000
DTSTAMP:20260422T205816
CREATED:20200923T181110Z
LAST-MODIFIED:20200923T181746Z
UID:10000066-1601654400-1601668800@richlandcarrousel.com
SUMMARY:First Friday - Halloween
DESCRIPTION:Carrousel runs Backwards\n\n\n\nThe carrousel will run backwards from 4-8pm on the second of October.  Don’t miss this unique opportunity to ride backwards! \n\n\n\nWear a halloween costume and get a free ride!Halloween costume contest at 6 p.m.Come hungry\, since there will be hotdogs and brats on the grill!
URL:https://richlandcarrousel.com/event/first-friday-halloween/
ATTACH;FMTTYPE=image/jpeg:https://richlandcarrousel.com/wp-content/uploads/2020/03/mansfieldcarrousel.jpg
END:VEVENT
END:VCALENDAR