BEGIN:VCALENDAR
VERSION:2.0
PRODID:-//Richland Carrousel Park - ECPv6.10.1.1//NONSGML v1.0//EN
CALSCALE:GREGORIAN
METHOD:PUBLISH
X-ORIGINAL-URL:https://richlandcarrousel.com
X-WR-CALDESC:Events for Richland Carrousel Park
REFRESH-INTERVAL;VALUE=DURATION:PT1H
X-Robots-Tag:noindex
X-PUBLISHED-TTL:PT1H
BEGIN:VTIMEZONE
TZID:America/New_York
BEGIN:DAYLIGHT
TZOFFSETFROM:-0500
TZOFFSETTO:-0400
TZNAME:EDT
DTSTART:20210314T070000
END:DAYLIGHT
BEGIN:STANDARD
TZOFFSETFROM:-0400
TZOFFSETTO:-0500
TZNAME:EST
DTSTART:20211107T060000
END:STANDARD
END:VTIMEZONE
BEGIN:VEVENT
DTSTART;TZID=America/New_York:20210721T110000
DTEND;TZID=America/New_York:20210721T130000
DTSTAMP:20260422T022241
CREATED:20210525T172306Z
LAST-MODIFIED:20210525T175158Z
UID:10000057-1626865200-1626872400@richlandcarrousel.com
SUMMARY:WACKY WEDNESDAY!
DESCRIPTION:FREE SPECIAL EVENT: STORYTIME\, YOGA\, AND / OR GAMES\, PLUS TWO RIDES \n\n\n\nLUNCH SPECIAL- HOT DOG\, CHIPS\, DRINK\, +1 RIDE TICKET – $3.00
URL:https://richlandcarrousel.com/event/wacky-wednesday-4/2021-07-21/
END:VEVENT
END:VCALENDAR