BEGIN:VCALENDAR
VERSION:2.0
PRODID:-//Richland Carrousel Park - ECPv6.10.1.1//NONSGML v1.0//EN
CALSCALE:GREGORIAN
METHOD:PUBLISH
X-ORIGINAL-URL:https://richlandcarrousel.com
X-WR-CALDESC:Events for Richland Carrousel Park
REFRESH-INTERVAL;VALUE=DURATION:PT1H
X-Robots-Tag:noindex
X-PUBLISHED-TTL:PT1H
BEGIN:VTIMEZONE
TZID:America/New_York
BEGIN:DAYLIGHT
TZOFFSETFROM:-0500
TZOFFSETTO:-0400
TZNAME:EDT
DTSTART:20210314T070000
END:DAYLIGHT
BEGIN:STANDARD
TZOFFSETFROM:-0400
TZOFFSETTO:-0500
TZNAME:EST
DTSTART:20211107T060000
END:STANDARD
END:VTIMEZONE
BEGIN:VEVENT
DTSTART;TZID=America/New_York:20211125T080000
DTEND;TZID=America/New_York:20211125T170000
DTSTAMP:20260421T160252
CREATED:20211028T133426Z
LAST-MODIFIED:20211126T184621Z
UID:10000047-1637827200-1637859600@richlandcarrousel.com
SUMMARY:Happy Thanksgiving! Carrousel Closed
DESCRIPTION:The Richland Carrousel wishes you all a Happy Holiday; See you all 10-5pm tomorrow and for Black Friday Specials\, Free coffee!  $1 Cookies! Saturday is Small Business Saturday- Specials continue!
URL:https://richlandcarrousel.com/event/happy-thanksgiving-carrousel-closed/
END:VEVENT
END:VCALENDAR