BEGIN:VCALENDAR
VERSION:2.0
PRODID:-//Richland Carrousel Park - ECPv6.10.1.1//NONSGML v1.0//EN
CALSCALE:GREGORIAN
METHOD:PUBLISH
X-ORIGINAL-URL:https://richlandcarrousel.com
X-WR-CALDESC:Events for Richland Carrousel Park
REFRESH-INTERVAL;VALUE=DURATION:PT1H
X-Robots-Tag:noindex
X-PUBLISHED-TTL:PT1H
BEGIN:VTIMEZONE
TZID:America/New_York
BEGIN:DAYLIGHT
TZOFFSETFROM:-0500
TZOFFSETTO:-0400
TZNAME:EDT
DTSTART:20210314T070000
END:DAYLIGHT
BEGIN:STANDARD
TZOFFSETFROM:-0400
TZOFFSETTO:-0500
TZNAME:EST
DTSTART:20211107T060000
END:STANDARD
END:VTIMEZONE
BEGIN:VEVENT
DTSTART;TZID=America/New_York:20211203T160000
DTEND;TZID=America/New_York:20211203T200000
DTSTAMP:20260421T104716
CREATED:20210921T193029Z
LAST-MODIFIED:20211203T181202Z
UID:10000024-1638547200-1638561600@richlandcarrousel.com
SUMMARY:CHRISTMAS IN THE CITY
DESCRIPTION:Spend a delightful momentous evening at The Carrousel; Mansfield Mayor officially lights the tree at 6pm\, The Carrousel is open until 8PM. Come ride a horse drawn carriage for $10\, and enjoy the Holiday atmosphere!
URL:https://richlandcarrousel.com/event/christmas-in-the-city/
END:VEVENT
END:VCALENDAR