BEGIN:VCALENDAR
VERSION:2.0
PRODID:-//Richland Carrousel Park - ECPv6.10.1.1//NONSGML v1.0//EN
CALSCALE:GREGORIAN
METHOD:PUBLISH
X-WR-CALNAME:Richland Carrousel Park
X-ORIGINAL-URL:https://richlandcarrousel.com
X-WR-CALDESC:Events for Richland Carrousel Park
REFRESH-INTERVAL;VALUE=DURATION:PT1H
X-Robots-Tag:noindex
X-PUBLISHED-TTL:PT1H
BEGIN:VTIMEZONE
TZID:America/New_York
BEGIN:DAYLIGHT
TZOFFSETFROM:-0500
TZOFFSETTO:-0400
TZNAME:EDT
DTSTART:20210314T070000
END:DAYLIGHT
BEGIN:STANDARD
TZOFFSETFROM:-0400
TZOFFSETTO:-0500
TZNAME:EST
DTSTART:20211107T060000
END:STANDARD
END:VTIMEZONE
BEGIN:VEVENT
DTSTART;TZID=America/New_York:20211208T180000
DTEND;TZID=America/New_York:20211208T200000
DTSTAMP:20260421T091447
CREATED:20211126T173337Z
LAST-MODIFIED:20211126T173339Z
UID:10000001-1638986400-1638993600@richlandcarrousel.com
SUMMARY:BEDTIME STORIES WITH SANTA
DESCRIPTION:$10 per child\, 1 free adult\, others $5Enjoy carrousel rides\, Christmas cookies\, hot cocoa\, two stories and a FREE photo with Santa\, printed while you ride.Reservations are required\, limited seating.WEAR YOUR CHRISTMAS PAJAMAS AND HAVE FUN! \n\n\n\n\nSHOP. RIDE. GIGGLE.
URL:https://richlandcarrousel.com/event/bedtime-stories-with-santa/
END:VEVENT
END:VCALENDAR