BEGIN:VCALENDAR
VERSION:2.0
PRODID:-//Richland Carrousel Park - ECPv6.10.1.1//NONSGML v1.0//EN
CALSCALE:GREGORIAN
METHOD:PUBLISH
X-ORIGINAL-URL:https://richlandcarrousel.com
X-WR-CALDESC:Events for Richland Carrousel Park
REFRESH-INTERVAL;VALUE=DURATION:PT1H
X-Robots-Tag:noindex
X-PUBLISHED-TTL:PT1H
BEGIN:VTIMEZONE
TZID:America/New_York
BEGIN:DAYLIGHT
TZOFFSETFROM:-0500
TZOFFSETTO:-0400
TZNAME:EDT
DTSTART:20210314T070000
END:DAYLIGHT
BEGIN:STANDARD
TZOFFSETFROM:-0400
TZOFFSETTO:-0500
TZNAME:EST
DTSTART:20211107T060000
END:STANDARD
END:VTIMEZONE
BEGIN:VEVENT
DTSTART;TZID=America/New_York:20211224T110000
DTEND;TZID=America/New_York:20211224T150000
DTSTAMP:20260421T104644
CREATED:20210928T172007Z
LAST-MODIFIED:20210928T172011Z
UID:10000025-1640343600-1640358000@richlandcarrousel.com
SUMMARY:Christmas Eve- Closes 3PM
DESCRIPTION:The Richland Carrousel Park will open this holiday eve for the enjoyment of our community\, closing at 3pm so our employees can celebrate with their loved ones.
URL:https://richlandcarrousel.com/event/christmas-eve-closes-3pm/
END:VEVENT
END:VCALENDAR