BEGIN:VCALENDAR
VERSION:2.0
PRODID:-//Richland Carrousel Park - ECPv6.10.1.1//NONSGML v1.0//EN
CALSCALE:GREGORIAN
METHOD:PUBLISH
X-ORIGINAL-URL:https://richlandcarrousel.com
X-WR-CALDESC:Events for Richland Carrousel Park
REFRESH-INTERVAL;VALUE=DURATION:PT1H
X-Robots-Tag:noindex
X-PUBLISHED-TTL:PT1H
BEGIN:VTIMEZONE
TZID:America/New_York
BEGIN:DAYLIGHT
TZOFFSETFROM:-0500
TZOFFSETTO:-0400
TZNAME:EDT
DTSTART:20240310T070000
END:DAYLIGHT
BEGIN:STANDARD
TZOFFSETFROM:-0400
TZOFFSETTO:-0500
TZNAME:EST
DTSTART:20241103T060000
END:STANDARD
END:VTIMEZONE
BEGIN:VEVENT
DTSTART;TZID=America/New_York:20240823T130000
DTEND;TZID=America/New_York:20240823T170000
DTSTAMP:20260424T002629
CREATED:20240805T183236Z
LAST-MODIFIED:20240805T183237Z
UID:10000246-1724418000-1724432400@richlandcarrousel.com
SUMMARY:Friday Late Opening (Private event)
DESCRIPTION:Due to a private event in the morning\, the Carrousel will open to the public Friday the 23rd\, at 1PM.
URL:https://richlandcarrousel.com/event/friday-late-opening-private-event/
END:VEVENT
END:VCALENDAR