BEGIN:VCALENDAR
VERSION:2.0
PRODID:-//Richland Carrousel Park - ECPv6.10.1.1//NONSGML v1.0//EN
CALSCALE:GREGORIAN
METHOD:PUBLISH
X-ORIGINAL-URL:https://richlandcarrousel.com
X-WR-CALDESC:Events for Richland Carrousel Park
REFRESH-INTERVAL;VALUE=DURATION:PT1H
X-Robots-Tag:noindex
X-PUBLISHED-TTL:PT1H
BEGIN:VTIMEZONE
TZID:America/New_York
BEGIN:DAYLIGHT
TZOFFSETFROM:-0500
TZOFFSETTO:-0400
TZNAME:EDT
DTSTART:20240310T070000
END:DAYLIGHT
BEGIN:STANDARD
TZOFFSETFROM:-0400
TZOFFSETTO:-0500
TZNAME:EST
DTSTART:20241103T060000
END:STANDARD
END:VTIMEZONE
BEGIN:VEVENT
DTSTART;TZID=America/New_York:20240831T100000
DTEND;TZID=America/New_York:20240831T170000
DTSTAMP:20260423T192414
CREATED:20240819T174752Z
LAST-MODIFIED:20240819T174753Z
UID:10000249-1725098400-1725123600@richlandcarrousel.com
SUMMARY:33rd Anniversary!
DESCRIPTION:Come enjoy ONE FREE RIDE PER HOUR as you watch the performers from Richland Academy of the Arts\, Mansfield Playhouse\, The Renaissance Theater and local performers\, plus Disney and Broadway songs by DJ. \n\n\n\nCOME PET THE BABY ALPACA! \n\n\n\nBrass House Board Room will do a Skateboard Demo and Safety Discussion \n\n\n\nRichland County Dog Warden is bringing several four footed contestants for a Beauty Contest- and YOU are the judge! \n\n\n\nWish our Director “Miss Sherry” Bishop a happy retirement after 20 years making the horses go around!
URL:https://richlandcarrousel.com/event/33rd-anniversary/
END:VEVENT
END:VCALENDAR