BEGIN:VCALENDAR
VERSION:2.0
PRODID:-//Richland Carrousel Park - ECPv6.10.1.1//NONSGML v1.0//EN
CALSCALE:GREGORIAN
METHOD:PUBLISH
X-WR-CALNAME:Richland Carrousel Park
X-ORIGINAL-URL:https://richlandcarrousel.com
X-WR-CALDESC:Events for Richland Carrousel Park
REFRESH-INTERVAL;VALUE=DURATION:PT1H
X-Robots-Tag:noindex
X-PUBLISHED-TTL:PT1H
BEGIN:VTIMEZONE
TZID:America/New_York
BEGIN:DAYLIGHT
TZOFFSETFROM:-0500
TZOFFSETTO:-0400
TZNAME:EDT
DTSTART:20210314T070000
END:DAYLIGHT
BEGIN:STANDARD
TZOFFSETFROM:-0400
TZOFFSETTO:-0500
TZNAME:EST
DTSTART:20211107T060000
END:STANDARD
END:VTIMEZONE
BEGIN:VEVENT
DTSTART;TZID=America/New_York:20210402T160000
DTEND;TZID=America/New_York:20210402T200000
DTSTAMP:20260422T054839
CREATED:20210320T155334Z
LAST-MODIFIED:20210320T170023Z
UID:10000063-1617379200-1617393600@richlandcarrousel.com
SUMMARY:First Friday
DESCRIPTION:6 RIDES FOR $3.00! \n\n\n\nGRILL OPEN! HOT DOGS AND BRATS. \n\n\n\nBIG SALE IN GIFTSHOP– \n\n\n\nNEW SUMMER FASHIONS! \n\n\n\nFUN ACTIVITIES WITH THE GIRL SCOUTS \n\n\n\n\n\n\n\n\n\n\n\nView Event
URL:https://richlandcarrousel.com/event/first-friday-2/
END:VEVENT
BEGIN:VEVENT
DTSTART;TZID=America/New_York:20210403T110000
DTEND;TZID=America/New_York:20210403T170000
DTSTAMP:20260422T054839
CREATED:20210320T152838Z
LAST-MODIFIED:20210320T170640Z
UID:10000067-1617447600-1617469200@richlandcarrousel.com
SUMMARY:EASTER EGG HUNT
DESCRIPTION:11am SHARP! \n\n\n\nOver 2000 Eggs! Separated into age groups\n\n\n\nMasks required\n\n\n\nA surprise in every egg!\n\n\n\n*Specially marked eggs get a bonus prize*
URL:https://richlandcarrousel.com/event/easter-egg-hunt/
ATTACH;FMTTYPE=image/jpeg:https://richlandcarrousel.com/wp-content/uploads/2021/03/f10492704.jpg
END:VEVENT
BEGIN:VEVENT
DTSTART;TZID=America/New_York:20210404T110000
DTEND;TZID=America/New_York:20210404T170000
DTSTAMP:20260422T054839
CREATED:20210327T172331Z
LAST-MODIFIED:20210327T172333Z
UID:10000021-1617534000-1617555600@richlandcarrousel.com
SUMMARY:Easter Sunday Closed
DESCRIPTION:We are closed for Easter Sunday\, but guess what?! We are opening back up 6 days a week starting Tuesday April 6th. Tuesday-Sunday 11am-5pm . Hoppy Easter! \n\n\n\n\n\n\nHoppy Easter!
URL:https://richlandcarrousel.com/event/easter-sunday-closed/
ATTACH;FMTTYPE=image/jpeg:https://richlandcarrousel.com/wp-content/uploads/2021/03/easter-eggs-clipart-trendy-inspiration-easter-eggs-clipart-happy-images-pics-photos-banners-bunny-free-3300-scaled.jpg
END:VEVENT
END:VCALENDAR