BEGIN:VCALENDAR
VERSION:2.0
PRODID:-//Richland Carrousel Park - ECPv6.10.1.1//NONSGML v1.0//EN
CALSCALE:GREGORIAN
METHOD:PUBLISH
X-WR-CALNAME:Richland Carrousel Park
X-ORIGINAL-URL:https://richlandcarrousel.com
X-WR-CALDESC:Events for Richland Carrousel Park
REFRESH-INTERVAL;VALUE=DURATION:PT1H
X-Robots-Tag:noindex
X-PUBLISHED-TTL:PT1H
BEGIN:VTIMEZONE
TZID:America/New_York
BEGIN:DAYLIGHT
TZOFFSETFROM:-0500
TZOFFSETTO:-0400
TZNAME:EDT
DTSTART:20210314T070000
END:DAYLIGHT
BEGIN:STANDARD
TZOFFSETFROM:-0400
TZOFFSETTO:-0500
TZNAME:EST
DTSTART:20211107T060000
END:STANDARD
END:VTIMEZONE
BEGIN:VEVENT
DTSTART;TZID=America/New_York:20210501T000000
DTEND;TZID=America/New_York:20210509T235959
DTSTAMP:20260422T041758
CREATED:20210320T161056Z
LAST-MODIFIED:20210320T161058Z
UID:10000064-1619827200-1620604799@richlandcarrousel.com
SUMMARY:Teacher Appreciation Week
DESCRIPTION:Vote for your favorite teacher and receive one FREE ride ticket (1 vote per person). Winner announced on May 12.
URL:https://richlandcarrousel.com/event/teacher-appreciation-week/
END:VEVENT
BEGIN:VEVENT
DTSTART;TZID=America/New_York:20210507T110000
DTEND;TZID=America/New_York:20210507T200000
DTSTAMP:20260422T041758
CREATED:20210327T185218Z
LAST-MODIFIED:20210327T185220Z
UID:10000048-1620385200-1620417600@richlandcarrousel.com
SUMMARY:First Friday
DESCRIPTION:From 4 to 8pm 6 rides for $3.00\, Police Finger Printing for Kids\, Carrousel Grill with Hot Dogs and Brats\, Chalk writing on sidewalk contest\, and so much more.
URL:https://richlandcarrousel.com/event/first-friday-3/
ATTACH;FMTTYPE=image/jpeg:https://richlandcarrousel.com/wp-content/uploads/2021/03/child-drawing-with-sidewalk-chalk-by-Allison-Gipson.jpg
END:VEVENT
BEGIN:VEVENT
DTSTART;TZID=America/New_York:20210526T110000
DTEND;TZID=America/New_York:20210526T130000
DTSTAMP:20260422T041758
CREATED:20210525T172306Z
LAST-MODIFIED:20210525T175158Z
UID:10000049-1622026800-1622034000@richlandcarrousel.com
SUMMARY:WACKY WEDNESDAY!
DESCRIPTION:FREE SPECIAL EVENT: STORYTIME\, YOGA\, AND / OR GAMES\, PLUS TWO RIDES \n\n\n\nLUNCH SPECIAL- HOT DOG\, CHIPS\, DRINK\, +1 RIDE TICKET – $3.00
URL:https://richlandcarrousel.com/event/wacky-wednesday-4/2021-05-26/
END:VEVENT
END:VCALENDAR