BEGIN:VCALENDAR
VERSION:2.0
PRODID:-//Richland Carrousel Park - ECPv6.10.1.1//NONSGML v1.0//EN
CALSCALE:GREGORIAN
METHOD:PUBLISH
X-ORIGINAL-URL:https://richlandcarrousel.com
X-WR-CALDESC:Events for Richland Carrousel Park
REFRESH-INTERVAL;VALUE=DURATION:PT1H
X-Robots-Tag:noindex
X-PUBLISHED-TTL:PT1H
BEGIN:VTIMEZONE
TZID:America/New_York
BEGIN:DAYLIGHT
TZOFFSETFROM:-0500
TZOFFSETTO:-0400
TZNAME:EDT
DTSTART:20210314T070000
END:DAYLIGHT
BEGIN:STANDARD
TZOFFSETFROM:-0400
TZOFFSETTO:-0500
TZNAME:EST
DTSTART:20211107T060000
END:STANDARD
END:VTIMEZONE
BEGIN:VEVENT
DTSTART;TZID=America/New_York:20210602T110000
DTEND;TZID=America/New_York:20210602T130000
DTSTAMP:20260422T041846
CREATED:20210525T172306Z
LAST-MODIFIED:20210525T175158Z
UID:10000050-1622631600-1622638800@richlandcarrousel.com
SUMMARY:WACKY WEDNESDAY!
DESCRIPTION:FREE SPECIAL EVENT: STORYTIME\, YOGA\, AND / OR GAMES\, PLUS TWO RIDES \n\n\n\nLUNCH SPECIAL- HOT DOG\, CHIPS\, DRINK\, +1 RIDE TICKET – $3.00
URL:https://richlandcarrousel.com/event/wacky-wednesday-4/2021-06-02/
END:VEVENT
BEGIN:VEVENT
DTSTART;TZID=America/New_York:20210604T160000
DTEND;TZID=America/New_York:20210604T200000
DTSTAMP:20260422T041846
CREATED:20210525T181506Z
LAST-MODIFIED:20210525T181510Z
UID:10000060-1622822400-1622836800@richlandcarrousel.com
SUMMARY:KAREN BRENNER- PAINTER OF ANIMALS AND MOMENTS
DESCRIPTION:Karen uses oils on canvas to capture beautiful moments in time. See her art on display here\, and meet the artist
URL:https://richlandcarrousel.com/event/karen-brenner-painter-of-animals-and-moments/
END:VEVENT
BEGIN:VEVENT
DTSTART;TZID=America/New_York:20210604T160000
DTEND;TZID=America/New_York:20210604T200000
DTSTAMP:20260422T041846
CREATED:20210525T182516Z
LAST-MODIFIED:20210525T182609Z
UID:10000019-1622822400-1622836800@richlandcarrousel.com
SUMMARY:FIRST FRIDAY!
DESCRIPTION:CARROUSEL GRILL OPEN! Brats $2.50\, and Hot Dogs $1.506 RIDES FOR $3.00CRAFT SHOW WITH ARTIST KAREN BRENNER
URL:https://richlandcarrousel.com/event/first-friday-4/
END:VEVENT
BEGIN:VEVENT
DTSTART;TZID=America/New_York:20210609T110000
DTEND;TZID=America/New_York:20210609T130000
DTSTAMP:20260422T041846
CREATED:20210525T172306Z
LAST-MODIFIED:20210525T175158Z
UID:10000051-1623236400-1623243600@richlandcarrousel.com
SUMMARY:WACKY WEDNESDAY!
DESCRIPTION:FREE SPECIAL EVENT: STORYTIME\, YOGA\, AND / OR GAMES\, PLUS TWO RIDES \n\n\n\nLUNCH SPECIAL- HOT DOG\, CHIPS\, DRINK\, +1 RIDE TICKET – $3.00
URL:https://richlandcarrousel.com/event/wacky-wednesday-4/2021-06-09/
END:VEVENT
BEGIN:VEVENT
DTSTART;TZID=America/New_York:20210616T110000
DTEND;TZID=America/New_York:20210616T130000
DTSTAMP:20260422T041846
CREATED:20210525T172306Z
LAST-MODIFIED:20210525T175158Z
UID:10000052-1623841200-1623848400@richlandcarrousel.com
SUMMARY:WACKY WEDNESDAY!
DESCRIPTION:FREE SPECIAL EVENT: STORYTIME\, YOGA\, AND / OR GAMES\, PLUS TWO RIDES \n\n\n\nLUNCH SPECIAL- HOT DOG\, CHIPS\, DRINK\, +1 RIDE TICKET – $3.00
URL:https://richlandcarrousel.com/event/wacky-wednesday-4/2021-06-16/
END:VEVENT
BEGIN:VEVENT
DTSTART;TZID=America/New_York:20210620T110000
DTEND;TZID=America/New_York:20210620T170000
DTSTAMP:20260422T041846
CREATED:20210525T184054Z
LAST-MODIFIED:20210525T184247Z
UID:10000045-1624186800-1624208400@richlandcarrousel.com
SUMMARY:FATHER'S DAY
DESCRIPTION:Happy Father’s Day\, Dads! \n\n\n\n\nFATHERS RIDE FREEFree Gift for every Dad
URL:https://richlandcarrousel.com/event/fathers-day/
END:VEVENT
BEGIN:VEVENT
DTSTART;TZID=America/New_York:20210623T110000
DTEND;TZID=America/New_York:20210623T130000
DTSTAMP:20260422T041846
CREATED:20210525T172306Z
LAST-MODIFIED:20210525T175158Z
UID:10000053-1624446000-1624453200@richlandcarrousel.com
SUMMARY:WACKY WEDNESDAY!
DESCRIPTION:FREE SPECIAL EVENT: STORYTIME\, YOGA\, AND / OR GAMES\, PLUS TWO RIDES \n\n\n\nLUNCH SPECIAL- HOT DOG\, CHIPS\, DRINK\, +1 RIDE TICKET – $3.00
URL:https://richlandcarrousel.com/event/wacky-wednesday-4/2021-06-23/
END:VEVENT
BEGIN:VEVENT
DTSTART;TZID=America/New_York:20210626T110000
DTEND;TZID=America/New_York:20210626T140000
DTSTAMP:20260422T041846
CREATED:20210525T183247Z
LAST-MODIFIED:20210525T192319Z
UID:10000044-1624705200-1624716000@richlandcarrousel.com
SUMMARY:Soapbox Derby Grill Open
DESCRIPTION:Come cheer on the cars from local businesses! Grilled lunch fare and drinks will be available.
URL:https://richlandcarrousel.com/event/soapbox-derby-grill-open/
END:VEVENT
BEGIN:VEVENT
DTSTART;TZID=America/New_York:20210630T110000
DTEND;TZID=America/New_York:20210630T130000
DTSTAMP:20260422T041846
CREATED:20210525T172306Z
LAST-MODIFIED:20210525T175158Z
UID:10000054-1625050800-1625058000@richlandcarrousel.com
SUMMARY:WACKY WEDNESDAY!
DESCRIPTION:FREE SPECIAL EVENT: STORYTIME\, YOGA\, AND / OR GAMES\, PLUS TWO RIDES \n\n\n\nLUNCH SPECIAL- HOT DOG\, CHIPS\, DRINK\, +1 RIDE TICKET – $3.00
URL:https://richlandcarrousel.com/event/wacky-wednesday-4/2021-06-30/
END:VEVENT
END:VCALENDAR