BEGIN:VCALENDAR
VERSION:2.0
PRODID:-//Richland Carrousel Park - ECPv6.10.1.1//NONSGML v1.0//EN
CALSCALE:GREGORIAN
METHOD:PUBLISH
X-WR-CALNAME:Richland Carrousel Park
X-ORIGINAL-URL:https://richlandcarrousel.com
X-WR-CALDESC:Events for Richland Carrousel Park
REFRESH-INTERVAL;VALUE=DURATION:PT1H
X-Robots-Tag:noindex
X-PUBLISHED-TTL:PT1H
BEGIN:VTIMEZONE
TZID:America/New_York
BEGIN:DAYLIGHT
TZOFFSETFROM:-0500
TZOFFSETTO:-0400
TZNAME:EDT
DTSTART:20210314T070000
END:DAYLIGHT
BEGIN:STANDARD
TZOFFSETFROM:-0400
TZOFFSETTO:-0500
TZNAME:EST
DTSTART:20211107T060000
END:STANDARD
END:VTIMEZONE
BEGIN:VEVENT
DTSTART;TZID=America/New_York:20211001T160000
DTEND;TZID=America/New_York:20211001T200000
DTSTAMP:20260421T160258
CREATED:20210525T194229Z
LAST-MODIFIED:20210921T182406Z
UID:10000018-1633104000-1633118400@richlandcarrousel.com
SUMMARY:HAUNTED CARROUSEL RUNS BACKWARDS! COSTUME CONTEST!
DESCRIPTION:It happens only once a year– come celebrate the spooky season!Carrousel Grill is open with special menu for Harvest / Halloween timeWEAR A COSTUME- GET A FREE RIDE!7PM- COSTUME CONTESTS AND JUDGING– 3 PRIZES\, 1 FOR AGES 5 AND UNDER\, 1 FOR AGES 6 THROUGH 8\, AND 1 FOR AGES 9 AND UP.
URL:https://richlandcarrousel.com/event/haunted-carrousel-runs-backwards/
END:VEVENT
BEGIN:VEVENT
DTSTART;TZID=America/New_York:20211007T110000
DTEND;TZID=America/New_York:20211007T110000
DTSTAMP:20260421T160258
CREATED:20210914T200822Z
LAST-MODIFIED:20211005T192707Z
UID:10000039-1633604400-1633604400@richlandcarrousel.com
SUMMARY:Fall Hours Begin
DESCRIPTION:The Richland Carrousel will be closed Monday\, Tuesday and Wednesday\, open Thursday through Sunday\, from 11am to 5pm\, until Spring 2022. We will be open until 8pm on First Fridays.
URL:https://richlandcarrousel.com/event/fall-hours-begin/
END:VEVENT
END:VCALENDAR