BEGIN:VCALENDAR
VERSION:2.0
PRODID:-//Richland Carrousel Park - ECPv6.10.1.1//NONSGML v1.0//EN
CALSCALE:GREGORIAN
METHOD:PUBLISH
X-ORIGINAL-URL:https://richlandcarrousel.com
X-WR-CALDESC:Events for Richland Carrousel Park
REFRESH-INTERVAL;VALUE=DURATION:PT1H
X-Robots-Tag:noindex
X-PUBLISHED-TTL:PT1H
BEGIN:VTIMEZONE
TZID:America/New_York
BEGIN:DAYLIGHT
TZOFFSETFROM:-0500
TZOFFSETTO:-0400
TZNAME:EDT
DTSTART:20210314T070000
END:DAYLIGHT
BEGIN:STANDARD
TZOFFSETFROM:-0400
TZOFFSETTO:-0500
TZNAME:EST
DTSTART:20211107T060000
END:STANDARD
END:VTIMEZONE
BEGIN:VEVENT
DTSTART;TZID=America/New_York:20211105T160000
DTEND;TZID=America/New_York:20211105T200000
DTSTAMP:20260421T160245
CREATED:20211022T195711Z
LAST-MODIFIED:20211022T195712Z
UID:10000069-1636128000-1636142400@richlandcarrousel.com
SUMMARY:November 5 First Friday! Free Rides 4-8pm
DESCRIPTION:COME MEET BELLE AND CINDERELLA FROM 5 – 8PM! \n\n\n\n\n\n\n\nCafe’ Special– Hot Dog\, Chips\, Drink and Ride Ticket- $4.50 \n\n\n\nRides from 4pm – 8pm donated by Lisa Stanton in memory of Ryan and Robbie
URL:https://richlandcarrousel.com/event/november-5-first-friday-free-rides-4-8pm/
END:VEVENT
BEGIN:VEVENT
DTSTART;TZID=America/New_York:20211120T170000
DTEND;TZID=America/New_York:20211120T170000
DTSTAMP:20260421T160245
CREATED:20210921T184841Z
LAST-MODIFIED:20211025T195504Z
UID:10000023-1637427600-1637427600@richlandcarrousel.com
SUMMARY:CHRISTMAS OPEN HOUSE
DESCRIPTION:The official beginning of the Christmas Holiday season\, come experience the decorations\, the lights\, the musicWitness the opening of the Tiny Tim Shop in the Downtown Mansfield Building!  \n\n\n\nSANTA PHOTOS 1 – 4pm $5 Donations please for photosFREE rides when Santa ridesCarolers! Cookies! Cocoa! \n\n\n\nBIG Christmas SaleCafé open 11 – 5Hot Dogs\, brats\, chips\, popChristmas cookies\, CocoaFree Coffee All DayFirst 50 kids get a prize!
URL:https://richlandcarrousel.com/event/christmas-open-house-2/
END:VEVENT
BEGIN:VEVENT
DTSTART;TZID=America/New_York:20211124T080000
DTEND;TZID=America/New_York:20211124T170000
DTSTAMP:20260421T160245
CREATED:20211028T132214Z
LAST-MODIFIED:20211126T184359Z
UID:10000061-1637740800-1637773200@richlandcarrousel.com
SUMMARY:Thanksgiving Eve Closed
DESCRIPTION:Richland Carrousel closed
URL:https://richlandcarrousel.com/event/thanksgiving-eve-closing-3pm/
END:VEVENT
BEGIN:VEVENT
DTSTART;TZID=America/New_York:20211125T080000
DTEND;TZID=America/New_York:20211125T170000
DTSTAMP:20260421T160245
CREATED:20211028T133426Z
LAST-MODIFIED:20211126T184621Z
UID:10000047-1637827200-1637859600@richlandcarrousel.com
SUMMARY:Happy Thanksgiving! Carrousel Closed
DESCRIPTION:The Richland Carrousel wishes you all a Happy Holiday; See you all 10-5pm tomorrow and for Black Friday Specials\, Free coffee!  $1 Cookies! Saturday is Small Business Saturday- Specials continue!
URL:https://richlandcarrousel.com/event/happy-thanksgiving-carrousel-closed/
END:VEVENT
BEGIN:VEVENT
DTSTART;TZID=America/New_York:20211126T100000
DTEND;TZID=America/New_York:20211126T170000
DTSTAMP:20260421T160245
CREATED:20211028T134828Z
LAST-MODIFIED:20211126T170729Z
UID:10000040-1637920800-1637946000@richlandcarrousel.com
SUMMARY:BLACK FRIDAY
DESCRIPTION:25% off Gift Shop itemsFREE Coffee!  $1Cookies! $1.50 PoPcOrN! \n\n\n\nCome in this weekend and find the year’s best prices on gifts\, toys\, fashions and jewelry. Due to national supply issues\, get what you need this weekend!
URL:https://richlandcarrousel.com/event/black-friday-2/
END:VEVENT
BEGIN:VEVENT
DTSTART;TZID=America/New_York:20211127T100000
DTEND;TZID=America/New_York:20211127T170000
DTSTAMP:20260421T160245
CREATED:20211028T142657Z
LAST-MODIFIED:20211126T191142Z
UID:10000027-1638007200-1638032400@richlandcarrousel.com
SUMMARY:SMALL BUSINESS SATURDAY
DESCRIPTION:Come in this weekend FOR 25% – 30% OFF on gifts\, toys\, fashions and jewelry. Due to national supply issues\, you will want to get what you need this weekend! \n\n\n\n25% OFF Gift Shop Items30% OFF Christmas ItemsFree Coffee! $1Cookies! $1.50 Popcorn!SANTA HERE! 1PM – 4PM \n\n\n\nCome bring your wish lists and have your photo taken with Santa! We ask a $5 donation please. \n\n\n\nFREE COFFEE and $1COOKIES TODAY!
URL:https://richlandcarrousel.com/event/small-business-saturday-2/
END:VEVENT
BEGIN:VEVENT
DTSTART;TZID=America/New_York:20211128T130000
DTEND;TZID=America/New_York:20211128T160000
DTSTAMP:20260421T160246
CREATED:20211126T171345Z
LAST-MODIFIED:20211126T190520Z
UID:10000015-1638104400-1638115200@richlandcarrousel.com
SUMMARY:SANTA AT THE CARROUSEL
DESCRIPTION:Bring your wish lists! Have a photo taken with Santa! $5 Donations please.
URL:https://richlandcarrousel.com/event/santa-at-the-carrousel/
END:VEVENT
END:VCALENDAR