BEGIN:VCALENDAR
VERSION:2.0
PRODID:-//Richland Carrousel Park - ECPv6.10.1.1//NONSGML v1.0//EN
CALSCALE:GREGORIAN
METHOD:PUBLISH
X-WR-CALNAME:Richland Carrousel Park
X-ORIGINAL-URL:https://richlandcarrousel.com
X-WR-CALDESC:Events for Richland Carrousel Park
REFRESH-INTERVAL;VALUE=DURATION:PT1H
X-Robots-Tag:noindex
X-PUBLISHED-TTL:PT1H
BEGIN:VTIMEZONE
TZID:America/New_York
BEGIN:DAYLIGHT
TZOFFSETFROM:-0500
TZOFFSETTO:-0400
TZNAME:EDT
DTSTART:20240310T070000
END:DAYLIGHT
BEGIN:STANDARD
TZOFFSETFROM:-0400
TZOFFSETTO:-0500
TZNAME:EST
DTSTART:20241103T060000
END:STANDARD
END:VTIMEZONE
BEGIN:VEVENT
DTSTART;TZID=America/New_York:20240902T090000
DTEND;TZID=America/New_York:20240902T170000
DTSTAMP:20260419T131844
CREATED:20240814T134334Z
LAST-MODIFIED:20240814T134336Z
UID:10000247-1725267600-1725296400@richlandcarrousel.com
SUMMARY:LABOR DAY PARADE & PARTY!
DESCRIPTION:The Carrousel opens at 9am- Come set up chairs and watch the Labor Day parade which starts at 10am\, then enjoy FREE RIDES from 11am – 2pm! FREE GRILL food!  Today’s party is sponsored by the AFL-CIO. \n\n\n\nCome enjoy!
URL:https://richlandcarrousel.com/event/labor-day-parade-party/
END:VEVENT
BEGIN:VEVENT
DTSTART;TZID=America/New_York:20240903T110000
DTEND;TZID=America/New_York:20240903T170000
DTSTAMP:20260419T131844
CREATED:20240520T161534Z
LAST-MODIFIED:20240729T172932Z
UID:10000235-1725361200-1725382800@richlandcarrousel.com
SUMMARY:FALL HOURS BEGIN
DESCRIPTION:FALL HOURS- 4 DAYS A WEEK \n\n\n\nThursday – Sunday11AM – 5PMMonday Tuesday Wednesday Closed
URL:https://richlandcarrousel.com/event/fall-hours-begin-4/
END:VEVENT
BEGIN:VEVENT
DTSTART;TZID=America/New_York:20240921T100000
DTEND;TZID=America/New_York:20240921T140000
DTSTAMP:20260419T131844
CREATED:20240909T182742Z
LAST-MODIFIED:20240909T182743Z
UID:10000250-1726912800-1726927200@richlandcarrousel.com
SUMMARY:TOUCH-A-TRUCK!
DESCRIPTION:See The Alpaca baby! Shriner Mini Cars!  Special Events at many of the stores and restaurants in the Carrousel District! See you at The Carrousel!
URL:https://richlandcarrousel.com/event/touch-a-truck-4/
END:VEVENT
BEGIN:VEVENT
DTSTART;TZID=America/New_York:20240927T180000
DTEND;TZID=America/New_York:20240927T200000
DTSTAMP:20260419T131844
CREATED:20240912T171859Z
LAST-MODIFIED:20240912T171900Z
UID:10000252-1727460000-1727467200@richlandcarrousel.com
SUMMARY:SPECIAL NEEDS PARTY! Reservations Required
DESCRIPTION:
URL:https://richlandcarrousel.com/event/special-needs-party-reservations-required/
END:VEVENT
END:VCALENDAR